BEGIN:VCALENDAR
VERSION:2.0
PRODID:-//wp-events-plugin.com//7.2.3.1//EN
TZID:Europe/Berlin
X-WR-TIMEZONE:Europe/Berlin
BEGIN:VEVENT
UID:497@inoxision-blog.de
DTSTART;TZID=Europe/Berlin:20231213T100000
DTEND;TZID=Europe/Berlin:20231213T160000
DTSTAMP:20231201T135230Z
URL:https://inoxision-blog.de/events/fachhandelspartner-online-schulung-en
 terprise-tag-2-40/
SUMMARY:Fachhandelspartner ONLINE-Schulung Enterprise - Tag 2
DESCRIPTION:Es handelt sich bei dieser reinen Online-Veranstaltung um den 2
 . Teil (von insgesamt 2) der Fachhändler-Basisschulung.\n\nVoraussetzung 
 zur Anmeldung ist die Teilnahme am 1. Teil der Veranstaltung.\n\nBitte bea
 chten: am Folgetag\, dem 14.12. findet auf derselben Plattform noch ein o
 ptionales FAQ statt. Hier können offene Fragen geklärt werden\, zudem gi
 bt es die Möglichkeit dass technische Anforderungen per Fernwartung gelö
 st werden.\n\nEs gibt aber natürlich auch während des 2. Schulungstags d
 ie Möglichkeit\, Dinge zu besprechen und Fragen zu stellen. Um den regul
 ären Ablauf zu gewährleisten\, sollte jedoch bei anspruchsvolleren Theme
 n das FAQ besucht werden.\nDie Schulung-Agenda:\nMittwoch\, 13.12.2023: Be
 ginn 10 Uhr (bis ca. 16.00 Uhr)\nAutomatisierte Archivierung von Ein- und 
 Ausgangsbelegen\n\nAbbildung von Unternehmensprozessen mit dem Workflowser
 ver\n\nDie inoxision.KI als Universalgenie\n\nStrukturierte Dokumentenabla
 ge mit dem inoxision Aktenplan / inoxision Drive\n\nZugriff per Webanwendu
 ng oder App
CATEGORIES:Fachhandelspartner - Schulung,Online Seminare
END:VEVENT
BEGIN:VTIMEZONE
TZID:Europe/Berlin
X-LIC-LOCATION:Europe/Berlin
BEGIN:STANDARD
DTSTART:20231029T020000
TZOFFSETFROM:+0200
TZOFFSETTO:+0100
TZNAME:CET
END:STANDARD
END:VTIMEZONE
END:VCALENDAR