BEGIN:VCALENDAR
VERSION:2.0
PRODID:-//wp-events-plugin.com//7.2.3.1//EN
TZID:Europe/Berlin
X-WR-TIMEZONE:Europe/Berlin
BEGIN:VEVENT
UID:498@inoxision-blog.de
DTSTART;TZID=Europe/Berlin:20230829T140000
DTEND;TZID=Europe/Berlin:20230829T150000
DTSTAMP:20230728T121556Z
URL:https://inoxision-blog.de/events/online-seminar-archive-smb-powered-by
 -inoxision-ki/
SUMMARY:Online-Seminar - ARCHIVE SMB powered by inoxision.KI
DESCRIPTION:Die SMB-Variante eignet sich ideal\, um innerhalb kürzester Ze
 it eine Installation mit Standardfeatures auszurollen\, wie bspw. die Abla
 ge von Mails und/oder Dokumenten oder die Recherche von verschiedenen Clie
 nts aus auf die archivierten Elemente.\n\nDie inoxision.KI erweitert die S
 MB-Variante nun im Bereich der Automatisierung. So können durch einen ein
 fachen und allgemein gehaltenen KI-Prozess Belege und Dokumente jeglicher 
 Art ausgewertet und im Archiv abgelegt werden - eingerichtet in wenigen Mi
 nuten.\n\nIm Webinar wird eine komplette SMB-Installation von Grund auf du
 rchgeführt\, mit einer standardisierten Dokumentenklasse versehen und abs
 chließend durch einen von der inoxision.KI unterstützen Prozess automati
 siert mit Dokumenten jeglicher Art befüllt - all das in 60 Minuten!\n\n&n
 bsp\;\n\n\n\n\n\n&nbsp\;\n\n 	Teilnehmer: autorisierte Fachhandelspartner\
 n 	Zugangsdaten: per Mail vor der Veranstaltung\n 	Kosten: kostenfrei\n
CATEGORIES:Einsteiger,Technik
END:VEVENT
BEGIN:VTIMEZONE
TZID:Europe/Berlin
X-LIC-LOCATION:Europe/Berlin
BEGIN:DAYLIGHT
DTSTART:20230326T030000
TZOFFSETFROM:+0100
TZOFFSETTO:+0200
TZNAME:CEST
END:DAYLIGHT
END:VTIMEZONE
END:VCALENDAR